BEGIN:VCALENDAR
PRODID:-//eluceo/ical//2.0/EN
VERSION:2.0
CALSCALE:GREGORIAN
BEGIN:VEVENT
UID:c79678a1ca6a4a886431877d7ed637fb
DTSTAMP:20260419T132210Z
SUMMARY:Jetons Cancer le 3 février 2018
DESCRIPTION:Website: https://www.jetons-cancer.org/
URL:https://redon.rotary-bretagne-mayenne.org/en/agenda/show/10320
DTSTART;TZID=Europe/Zurich:20180203T000000
DTEND;TZID=Europe/Zurich:20180203T000000
LOCATION:-
CATEGORIES:Rotary
END:VEVENT
BEGIN:VTIMEZONE
TZID:Europe/Zurich
BEGIN:STANDARD
DTSTART:20180203T000000
TZNAME:CET
TZOFFSETTO:+0100
TZOFFSETFROM:+0100
END:STANDARD
END:VTIMEZONE
END:VCALENDAR
