BEGIN:VCALENDAR
PRODID:-//eluceo/ical//2.0/EN
VERSION:2.0
CALSCALE:GREGORIAN
BEGIN:VEVENT
UID:469953ba64e7bf09581029bdb828adc9
DTSTAMP:20260419T132041Z
SUMMARY:Puces des couturières
DESCRIPTION: \n\nLes Puces des Couturières auront lieu le 18/02/2108 à S
 aint Nicolas de Redon.
URL:https://redon.rotary-bretagne-mayenne.org/en/agenda/show/8187
DTSTART;TZID=Europe/Zurich:20180218T100000
DTEND;TZID=Europe/Zurich:20180218T180000
LOCATION:Salle des sports de Saint-Nicolas de Redon
CATEGORIES:Rotary
END:VEVENT
BEGIN:VTIMEZONE
TZID:Europe/Zurich
BEGIN:STANDARD
DTSTART:20180218T100000
TZNAME:CET
TZOFFSETTO:+0100
TZOFFSETFROM:+0100
END:STANDARD
END:VTIMEZONE
END:VCALENDAR
